BEGIN:VCALENDAR
VERSION:2.0
PRODID:-//Bible Teaching Lectures and Conferences Recordings - ECPv6.15.20//NONSGML v1.0//EN
CALSCALE:GREGORIAN
METHOD:PUBLISH
X-WR-CALNAME:Bible Teaching Lectures and Conferences Recordings
X-ORIGINAL-URL:https://bibleteaching.co.uk
X-WR-CALDESC:Events for Bible Teaching Lectures and Conferences Recordings
REFRESH-INTERVAL;VALUE=DURATION:PT1H
X-Robots-Tag:noindex
X-PUBLISHED-TTL:PT1H
BEGIN:VTIMEZONE
TZID:Europe/London
BEGIN:DAYLIGHT
TZOFFSETFROM:+0000
TZOFFSETTO:+0100
TZNAME:BST
DTSTART:20220327T010000
END:DAYLIGHT
BEGIN:STANDARD
TZOFFSETFROM:+0100
TZOFFSETTO:+0000
TZNAME:GMT
DTSTART:20221030T010000
END:STANDARD
BEGIN:DAYLIGHT
TZOFFSETFROM:+0000
TZOFFSETTO:+0100
TZNAME:BST
DTSTART:20230326T010000
END:DAYLIGHT
BEGIN:STANDARD
TZOFFSETFROM:+0100
TZOFFSETTO:+0000
TZNAME:GMT
DTSTART:20231029T010000
END:STANDARD
BEGIN:DAYLIGHT
TZOFFSETFROM:+0000
TZOFFSETTO:+0100
TZNAME:BST
DTSTART:20240331T010000
END:DAYLIGHT
BEGIN:STANDARD
TZOFFSETFROM:+0100
TZOFFSETTO:+0000
TZNAME:GMT
DTSTART:20241027T010000
END:STANDARD
END:VTIMEZONE
BEGIN:VEVENT
DTSTART;VALUE=DATE:20231007
DTEND;VALUE=DATE:20231008
DTSTAMP:20260420T040958
CREATED:20230723T205711Z
LAST-MODIFIED:20230723T205711Z
UID:11964-1696636800-1696723199@bibleteaching.co.uk
SUMMARY:Birmingham Fellowship Meeting
DESCRIPTION:
URL:https://bibleteaching.co.uk/event/birmingham-fellowship-meeting/
LOCATION:Rickman Drive Hall\, Birmingham\, 27 Great Colmore Street\, Birmingham\, B15 2AP
END:VEVENT
END:VCALENDAR