BEGIN:VCALENDAR
VERSION:2.0
PRODID:-//Bible Teaching Lectures and Conferences Recordings - ECPv6.15.20//NONSGML v1.0//EN
CALSCALE:GREGORIAN
METHOD:PUBLISH
X-WR-CALNAME:Bible Teaching Lectures and Conferences Recordings
X-ORIGINAL-URL:https://bibleteaching.co.uk
X-WR-CALDESC:Events for Bible Teaching Lectures and Conferences Recordings
REFRESH-INTERVAL;VALUE=DURATION:PT1H
X-Robots-Tag:noindex
X-PUBLISHED-TTL:PT1H
BEGIN:VTIMEZONE
TZID:Europe/London
BEGIN:DAYLIGHT
TZOFFSETFROM:+0000
TZOFFSETTO:+0100
TZNAME:BST
DTSTART:20240331T010000
END:DAYLIGHT
BEGIN:STANDARD
TZOFFSETFROM:+0100
TZOFFSETTO:+0000
TZNAME:GMT
DTSTART:20241027T010000
END:STANDARD
BEGIN:DAYLIGHT
TZOFFSETFROM:+0000
TZOFFSETTO:+0100
TZNAME:BST
DTSTART:20250330T010000
END:DAYLIGHT
BEGIN:STANDARD
TZOFFSETFROM:+0100
TZOFFSETTO:+0000
TZNAME:GMT
DTSTART:20251026T010000
END:STANDARD
BEGIN:DAYLIGHT
TZOFFSETFROM:+0000
TZOFFSETTO:+0100
TZNAME:BST
DTSTART:20260329T010000
END:DAYLIGHT
BEGIN:STANDARD
TZOFFSETFROM:+0100
TZOFFSETTO:+0000
TZNAME:GMT
DTSTART:20261025T010000
END:STANDARD
END:VTIMEZONE
BEGIN:VEVENT
DTSTART;TZID=Europe/London:20250201T170000
DTEND;TZID=Europe/London:20250201T193000
DTSTAMP:20260425T195647
CREATED:20240924T214222Z
LAST-MODIFIED:20240924T214222Z
UID:12855-1738429200-1738438200@bibleteaching.co.uk
SUMMARY:Stockwell Bible Lectures
DESCRIPTION:5pm  John Ajami\nPaul’s prayer for the Colossians\n6.30pm  Brian Reynolds\nPaul’s prayers for the Thessalonians \nMeeting ID: 840 3585 7989\nPasscode: 316316 \nJoin Zoom Meeting\nhttps://us02web.zoom.us/j/84035857989?pwd=Qzg2eFVqT2RQR3JIbUlPL2t3b0wydz09 \nMeeting ID: 840 3585 7989\nPasscode: 316316 \nIf joining by telephone in the UK\, use one of:\n0203 901 7895\n0131 460 1196\n0203 051 2874\n0203 481 5237\n0203 481 5240
URL:https://bibleteaching.co.uk/event/stockwell-bible-lectures-10/
END:VEVENT
BEGIN:VEVENT
DTSTART;TZID=Europe/London:20250208T100000
DTEND;TZID=Europe/London:20250208T190000
DTSTAMP:20260425T195647
CREATED:20240923T204014Z
LAST-MODIFIED:20240923T204014Z
UID:12849-1739008800-1739041200@bibleteaching.co.uk
SUMMARY:Bible Study Conference
DESCRIPTION:
URL:https://bibleteaching.co.uk/event/bible-study-conference-4/
LOCATION:Plum Lane Meeting Room\, 13 Plum Lane\, Plumstead\, SE18 3AF
END:VEVENT
BEGIN:VEVENT
DTSTART;TZID=Europe/London:20250222T150000
DTEND;TZID=Europe/London:20250222T190000
DTSTAMP:20260425T195647
CREATED:20241124T215217Z
LAST-MODIFIED:20241124T215217Z
UID:13036-1740236400-1740250800@bibleteaching.co.uk
SUMMARY:Lowestoft
DESCRIPTION:
URL:https://bibleteaching.co.uk/event/lowestoft/
END:VEVENT
END:VCALENDAR